BEGIN:VCALENDAR
VERSION:2.0
PRODID:-// - ECPv6.15.20//NONSGML v1.0//EN
CALSCALE:GREGORIAN
METHOD:PUBLISH
X-ORIGINAL-URL:https://alexmeadows.org
X-WR-CALDESC:Events for 
REFRESH-INTERVAL;VALUE=DURATION:PT1H
X-Robots-Tag:noindex
X-PUBLISHED-TTL:PT1H
BEGIN:VTIMEZONE
TZID:UTC
BEGIN:STANDARD
TZOFFSETFROM:+0000
TZOFFSETTO:+0000
TZNAME:UTC
DTSTART:20180101T000000
END:STANDARD
END:VTIMEZONE
BEGIN:VTIMEZONE
TZID:Europe/Helsinki
BEGIN:DAYLIGHT
TZOFFSETFROM:+0200
TZOFFSETTO:+0300
TZNAME:EEST
DTSTART:20180325T010000
END:DAYLIGHT
BEGIN:STANDARD
TZOFFSETFROM:+0300
TZOFFSETTO:+0200
TZNAME:EET
DTSTART:20181028T010000
END:STANDARD
BEGIN:DAYLIGHT
TZOFFSETFROM:+0200
TZOFFSETTO:+0300
TZNAME:EEST
DTSTART:20190331T010000
END:DAYLIGHT
BEGIN:STANDARD
TZOFFSETFROM:+0300
TZOFFSETTO:+0200
TZNAME:EET
DTSTART:20191027T010000
END:STANDARD
BEGIN:DAYLIGHT
TZOFFSETFROM:+0200
TZOFFSETTO:+0300
TZNAME:EEST
DTSTART:20200329T010000
END:DAYLIGHT
BEGIN:STANDARD
TZOFFSETFROM:+0300
TZOFFSETTO:+0200
TZNAME:EET
DTSTART:20201025T010000
END:STANDARD
BEGIN:DAYLIGHT
TZOFFSETFROM:+0200
TZOFFSETTO:+0300
TZNAME:EEST
DTSTART:20210328T010000
END:DAYLIGHT
BEGIN:STANDARD
TZOFFSETFROM:+0300
TZOFFSETTO:+0200
TZNAME:EET
DTSTART:20211031T010000
END:STANDARD
BEGIN:DAYLIGHT
TZOFFSETFROM:+0200
TZOFFSETTO:+0300
TZNAME:EEST
DTSTART:20220327T010000
END:DAYLIGHT
BEGIN:STANDARD
TZOFFSETFROM:+0300
TZOFFSETTO:+0200
TZNAME:EET
DTSTART:20221030T010000
END:STANDARD
BEGIN:DAYLIGHT
TZOFFSETFROM:+0200
TZOFFSETTO:+0300
TZNAME:EEST
DTSTART:20230326T010000
END:DAYLIGHT
BEGIN:STANDARD
TZOFFSETFROM:+0300
TZOFFSETTO:+0200
TZNAME:EET
DTSTART:20231029T010000
END:STANDARD
END:VTIMEZONE
BEGIN:VEVENT
DTSTART;TZID=UTC:20231224T110000
DTEND;TZID=UTC:20231224T120000
DTSTAMP:20260423T170142
CREATED:20231120T185533Z
LAST-MODIFIED:20231120T185533Z
UID:1376-1703415600-1703419200@alexmeadows.org
SUMMARY:Christmas Eve at Harvest Church
DESCRIPTION:
URL:https://alexmeadows.org/event/christmas-eve-at-harvest-church/
LOCATION:Harvest Church\, 130 3rd Street\, Turlock\, CA\, 95380
END:VEVENT
BEGIN:VEVENT
DTSTART;TZID=UTC:20231221T190000
DTEND;TZID=UTC:20231221T200000
DTSTAMP:20260423T170142
CREATED:20231120T190439Z
LAST-MODIFIED:20231120T190439Z
UID:1384-1703185200-1703188800@alexmeadows.org
SUMMARY:LIVE - Online Stream
DESCRIPTION:Join Alex LIVE at 7PM PST on YouTube and Facebook!\nWatch on Facebook Here: Facebook.com/AlexMeadowsMinistries\nWatch on YouTube Here: YouTube.com/@RevAlexMeadows
URL:https://alexmeadows.org/event/live-online-stream-4/
END:VEVENT
BEGIN:VEVENT
DTSTART;TZID=UTC:20231214T190000
DTEND;TZID=UTC:20231214T200000
DTSTAMP:20260423T170142
CREATED:20231120T190417Z
LAST-MODIFIED:20231120T190417Z
UID:1382-1702580400-1702584000@alexmeadows.org
SUMMARY:LIVE - Online Stream
DESCRIPTION:Join Alex LIVE at 7PM PST on YouTube and Facebook!\nWatch on Facebook Here: Facebook.com/AlexMeadowsMinistries\nWatch on YouTube Here: YouTube.com/@RevAlexMeadows
URL:https://alexmeadows.org/event/live-online-stream-3/
END:VEVENT
BEGIN:VEVENT
DTSTART;TZID=UTC:20231210T100000
DTEND;TZID=UTC:20231210T123000
DTSTAMP:20260423T170142
CREATED:20231113T020943Z
LAST-MODIFIED:20231130T232837Z
UID:1368-1702202400-1702211400@alexmeadows.org
SUMMARY:Harvest Church - Hatch Rd Campus
DESCRIPTION:Harvest Church – Hatch Rd Campus
URL:https://alexmeadows.org/event/harvest-church-hatch-rd-campus/
END:VEVENT
BEGIN:VEVENT
DTSTART;TZID=UTC:20231207T190000
DTEND;TZID=UTC:20231207T200000
DTSTAMP:20260423T170142
CREATED:20231120T190258Z
LAST-MODIFIED:20231120T190258Z
UID:1380-1701975600-1701979200@alexmeadows.org
SUMMARY:LIVE - Online Stream
DESCRIPTION:Join Alex LIVE at 7PM PST on YouTube and Facebook!\nWatch on Facebook Here: Facebook.com/AlexMeadowsMinistries\nWatch on YouTube Here: YouTube.com/@RevAlexMeadows
URL:https://alexmeadows.org/event/live-online-stream-2/
END:VEVENT
BEGIN:VEVENT
DTSTART;TZID=UTC:20231130T190000
DTEND;TZID=UTC:20231130T200000
DTSTAMP:20260423T170142
CREATED:20231120T190053Z
LAST-MODIFIED:20231120T190053Z
UID:1378-1701370800-1701374400@alexmeadows.org
SUMMARY:LIVE - Online Stream
DESCRIPTION:Join Alex LIVE at 7PM PST on YouTube and Facebook!\nWatch on Facebook Here: Facebook.com/AlexMeadowsMinistries\nWatch on YouTube Here: YouTube.com/@RevAlexMeadows
URL:https://alexmeadows.org/event/live-online-stream/
END:VEVENT
BEGIN:VEVENT
DTSTART;VALUE=DATE:20231117
DTEND;VALUE=DATE:20231120
DTSTAMP:20260423T170142
CREATED:20231113T021134Z
LAST-MODIFIED:20231113T021134Z
UID:1371-1700179200-1700438399@alexmeadows.org
SUMMARY:House of Praise Reno
DESCRIPTION:
URL:https://alexmeadows.org/event/house-of-praise-reno/
END:VEVENT
BEGIN:VEVENT
DTSTART;TZID=UTC:20230611T090000
DTEND;TZID=UTC:20230611T123000
DTSTAMP:20260423T170142
CREATED:20230425T141709Z
LAST-MODIFIED:20230425T141709Z
UID:1347-1686474000-1686486600@alexmeadows.org
SUMMARY:Harvest Church - Downtown Turlock Campus
DESCRIPTION:9am & 11am Sunday Services
URL:https://alexmeadows.org/event/harvest-church-downtown-turlock-campus/
LOCATION:Harvest Church\, 130 3rd Street\, Turlock\, CA\, 95380
END:VEVENT
BEGIN:VEVENT
DTSTART;TZID=UTC:20230610T080000
DTEND;TZID=UTC:20230610T100000
DTSTAMP:20260423T170142
CREATED:20230425T141540Z
LAST-MODIFIED:20230523T134710Z
UID:1345-1686384000-1686391200@alexmeadows.org
SUMMARY:Harvest Church
DESCRIPTION:Men’s Breakfast Event (Registration Required)
URL:https://alexmeadows.org/event/harvest-church-3/
LOCATION:Harvest Church\, 130 3rd Street\, Turlock\, CA\, 95380
END:VEVENT
BEGIN:VEVENT
DTSTART;TZID=UTC:20230514T100000
DTEND;TZID=UTC:20230514T120000
DTSTAMP:20260423T170142
CREATED:20230425T141120Z
LAST-MODIFIED:20230425T141140Z
UID:1340-1684058400-1684065600@alexmeadows.org
SUMMARY:Harvest Church - Westlake Village
DESCRIPTION:Harvest Church – Westlake Village
URL:https://alexmeadows.org/event/westlake-village/
LOCATION:Harvest Church – Westlake Village\, 910 Hampshire Rd Suite I\, Westlake Village\, CA\, 91361
END:VEVENT
BEGIN:VEVENT
DTSTART;TZID=UTC:20221127T100000
DTEND;TZID=UTC:20221127T130000
DTSTAMP:20260423T170142
CREATED:20220822T193337Z
LAST-MODIFIED:20220822T193337Z
UID:1261-1669543200-1669554000@alexmeadows.org
SUMMARY:Harvest Time Asheville
DESCRIPTION:
URL:https://alexmeadows.org/event/harvest-time-asheville/
LOCATION:Harvest Time Asheville\, 225 Summit St\, Asheville\, NC\, 28803\, United States
END:VEVENT
BEGIN:VEVENT
DTSTART;TZID=UTC:20221030T090000
DTEND;TZID=UTC:20221030T130000
DTSTAMP:20260423T170142
CREATED:20220822T193108Z
LAST-MODIFIED:20220822T193108Z
UID:1259-1667120400-1667134800@alexmeadows.org
SUMMARY:Harvest Church
DESCRIPTION:
URL:https://alexmeadows.org/event/harvest-church-2/
LOCATION:Harvest Church\, 130 3rd Street\, Turlock\, CA\, 95380
END:VEVENT
BEGIN:VEVENT
DTSTART;TZID=UTC:20220911T090000
DTEND;TZID=UTC:20220911T130000
DTSTAMP:20260423T170142
CREATED:20220822T192958Z
LAST-MODIFIED:20220822T192958Z
UID:1257-1662886800-1662901200@alexmeadows.org
SUMMARY:Harvest Church
DESCRIPTION:
URL:https://alexmeadows.org/event/harvest-church/
LOCATION:Harvest Church\, 130 3rd Street\, Turlock\, CA\, 95380
END:VEVENT
BEGIN:VEVENT
DTSTART;TZID=Europe/Helsinki:20220515T090000
DTEND;TZID=Europe/Helsinki:20220515T110000
DTSTAMP:20260423T170142
CREATED:20220415T090027Z
LAST-MODIFIED:20220423T031645Z
UID:1174-1652605200-1652612400@alexmeadows.org
SUMMARY:Harvest Church
DESCRIPTION:
URL:https://alexmeadows.org/event/harvestchurch/
LOCATION:Harvest Church\, 130 3rd Street\, Turlock\, CA\, 95380
END:VEVENT
BEGIN:VEVENT
DTSTART;TZID=UTC:20200609T200000
DTEND;TZID=UTC:20200609T220000
DTSTAMP:20260423T170142
CREATED:20190622T103028Z
LAST-MODIFIED:20200602T150307Z
UID:947-1591732800-1591740000@alexmeadows.org
SUMMARY:
DESCRIPTION:
URL:https://alexmeadows.org/event/racismandthechurch/
LOCATION:Facebook\, https://www.facebook.com/ineedaword1\, United States
END:VEVENT
BEGIN:VEVENT
DTSTART;TZID=Europe/Helsinki:20190918T190000
DTEND;TZID=Europe/Helsinki:20190918T210000
DTSTAMP:20260423T170142
CREATED:20160310T105009Z
LAST-MODIFIED:20190829T222018Z
UID:175-1568833200-1568840400@alexmeadows.org
SUMMARY:Fruit of Labor Worship Center
DESCRIPTION:Revival
URL:https://alexmeadows.org/event/fruitoflabor/
LOCATION:Fruit of Labor Worship Center\, 611 Emmas Grove Rd.\, Fletcher\, NC\, 28732\, United States
END:VEVENT
BEGIN:VEVENT
DTSTART;TZID=UTC:20190720T190000
DTEND;TZID=UTC:20190720T210000
DTSTAMP:20260423T170142
CREATED:20190610T070059Z
LAST-MODIFIED:20190617T174026Z
UID:949-1563649200-1563656400@alexmeadows.org
SUMMARY:East Waynesville Baptist Church
DESCRIPTION:
URL:https://alexmeadows.org/event/east-waynesville-baptist-church/
LOCATION:East Waynesville Baptist Church\, 175 Woodland Dr\, Waynesville\, NC\, 28786\, United States
END:VEVENT
END:VCALENDAR